BEGIN:VCALENDAR
VERSION:2.0
PRODID:-//Regionalentwicklung Oststeiermark - ECPv6.15.20//NONSGML v1.0//EN
CALSCALE:GREGORIAN
METHOD:PUBLISH
X-WR-CALNAME:Regionalentwicklung Oststeiermark
X-ORIGINAL-URL:https://oststeiermark.at
X-WR-CALDESC:Veranstaltungen für Regionalentwicklung Oststeiermark
REFRESH-INTERVAL;VALUE=DURATION:PT1H
X-Robots-Tag:noindex
X-PUBLISHED-TTL:PT1H
BEGIN:VTIMEZONE
TZID:Europe/Vienna
BEGIN:DAYLIGHT
TZOFFSETFROM:+0100
TZOFFSETTO:+0200
TZNAME:CEST
DTSTART:20230326T010000
END:DAYLIGHT
BEGIN:STANDARD
TZOFFSETFROM:+0200
TZOFFSETTO:+0100
TZNAME:CET
DTSTART:20231029T010000
END:STANDARD
BEGIN:DAYLIGHT
TZOFFSETFROM:+0100
TZOFFSETTO:+0200
TZNAME:CEST
DTSTART:20240331T010000
END:DAYLIGHT
BEGIN:STANDARD
TZOFFSETFROM:+0200
TZOFFSETTO:+0100
TZNAME:CET
DTSTART:20241027T010000
END:STANDARD
BEGIN:DAYLIGHT
TZOFFSETFROM:+0100
TZOFFSETTO:+0200
TZNAME:CEST
DTSTART:20250330T010000
END:DAYLIGHT
BEGIN:STANDARD
TZOFFSETFROM:+0200
TZOFFSETTO:+0100
TZNAME:CET
DTSTART:20251026T010000
END:STANDARD
END:VTIMEZONE
BEGIN:VEVENT
DTSTART;TZID=Europe/Vienna:20240822T160000
DTEND;TZID=Europe/Vienna:20240822T200000
DTSTAMP:20260420T043032
CREATED:20250704T063847Z
LAST-MODIFIED:20250704T063944Z
UID:10000045-1724342400-1724356800@oststeiermark.at
SUMMARY:Wasser Biennale - Silence of the Many
DESCRIPTION:Alfred Lenz\, „Silence of the Many“\, 2024 \n\n\n\nMilan Kundera bezeichnete in seinem Buch „Die unerträglichen Leichtigkeit des Seins“ auf Seite 150 die Kanalisation als „Venedig der Scheiße“: „In modernen Badezimmern wachsen die Klosettbecken wie die weißen Blüten der Seerosen aus dem Boden. Der Architekt tut alles\, um dem Körper sein Elend vergessen zu lassen\, und man weiß nicht\, was mit den Abfällen aus den Eingeweiden geschieht\, wenn das Wasser aus dem Reservoir rauschend darüber zusammenschlägt. Obwohl die Röhren der Kanalisation mit ihren Fangarmen bis in unsere Wohnungen reichen\, sind sie sorgfältig vor unseren Blicken verborgen\, und wir wissen nicht vom unsichtbaren Venedig der Scheiße\, über dem unsere Badezimmer\, unsere Schlafzimmer\, unsere Tanzsäle und unsere Parlamente gebaut sind. Die Toilette-der Körper\, der auf diesem erweiterten Ende eines Abwasserrohrs sitzt.“ Folgen wir Kunderas „Ausführungen“ tritt das Herz dieses unterirdischen Kanalgeflechts als umgekehrter Stadtraum an die Oberfläche. \n\n\n\nUnser Blick richtet sich auf die Architektur der Kläranlage\, welche ohne ästhetischen Willen geplant und ausgeführt wurde. Die ehemalige Kläranlage\, seit 27 Jahren als Regenwasserauffangbecken genutzt\, wird durch Alfred Lenz‘ Installation zu einem Klangkörper\, der als Gefäß neuem Inhalt Raum gibt. \n\n\n\nEin Gummischlauch mit einem Durchmesser von zwei Metern hält eine sternförmige Holzkonstruktion\, auf der unzählige Schlagzeugbecken mit unterschiedlichsten Klangcharakteristiken lose auf Gummiseilen montiert sind\, zusammen. Im Inneren der Konstruktion befindet sich ein elektronisch gesteuerter Vibrationsgenerator\, der das Objekt in einen Schwingungszustand versetzt. Die Vielzahl der resonierenden Becken wird zu einem Chor\, zu einer untrennbaren Einheit. Die Wasseroberfläche wird zu einer Membran und die Architektur zum Resonanz- und Reflexionskörper. Die sich ausbreitenden Schallwellen werden an der Wasseroberfläche sichtbar. \n\n\n\nDer Klang der Becken könnte in intensivierter Weise und auf einen Augenblick begrenztals jene Geräuschkulisse gelesen werden\, die durch Erosion über Jahrtausende hinweg das Gelände geformt hat. \n\n\n\nLenz/Pedrotti
URL:https://oststeiermark.at/event/wasser-biennale-silence-of-the-many/
LOCATION:Alte Kläranlage Fürstenfeld\, Liebfrauenweg 6\, Fürstenfeld\, 8280
CATEGORIES:Kunst & Kultur
ATTACH;FMTTYPE=image/jpeg:https://oststeiermark.at/wp-content/uploads/Lenz_2.jpg
END:VEVENT
END:VCALENDAR