BEGIN:VCALENDAR
VERSION:2.0
PRODID:-//Regionalentwicklung Oststeiermark - ECPv6.15.20//NONSGML v1.0//EN
CALSCALE:GREGORIAN
METHOD:PUBLISH
X-ORIGINAL-URL:https://oststeiermark.at
X-WR-CALDESC:Veranstaltungen für Regionalentwicklung Oststeiermark
REFRESH-INTERVAL;VALUE=DURATION:PT1H
X-Robots-Tag:noindex
X-PUBLISHED-TTL:PT1H
BEGIN:VTIMEZONE
TZID:Europe/Vienna
BEGIN:DAYLIGHT
TZOFFSETFROM:+0100
TZOFFSETTO:+0200
TZNAME:CEST
DTSTART:20230326T010000
END:DAYLIGHT
BEGIN:STANDARD
TZOFFSETFROM:+0200
TZOFFSETTO:+0100
TZNAME:CET
DTSTART:20231029T010000
END:STANDARD
BEGIN:DAYLIGHT
TZOFFSETFROM:+0100
TZOFFSETTO:+0200
TZNAME:CEST
DTSTART:20240331T010000
END:DAYLIGHT
BEGIN:STANDARD
TZOFFSETFROM:+0200
TZOFFSETTO:+0100
TZNAME:CET
DTSTART:20241027T010000
END:STANDARD
BEGIN:DAYLIGHT
TZOFFSETFROM:+0100
TZOFFSETTO:+0200
TZNAME:CEST
DTSTART:20250330T010000
END:DAYLIGHT
BEGIN:STANDARD
TZOFFSETFROM:+0200
TZOFFSETTO:+0100
TZNAME:CET
DTSTART:20251026T010000
END:STANDARD
BEGIN:DAYLIGHT
TZOFFSETFROM:+0100
TZOFFSETTO:+0200
TZNAME:CEST
DTSTART:20260329T010000
END:DAYLIGHT
BEGIN:STANDARD
TZOFFSETFROM:+0200
TZOFFSETTO:+0100
TZNAME:CET
DTSTART:20261025T010000
END:STANDARD
END:VTIMEZONE
BEGIN:VEVENT
DTSTART;TZID=Europe/Vienna:20250614T200000
DTEND;TZID=Europe/Vienna:20250614T220000
DTSTAMP:20260419T224107
CREATED:20250510T160315Z
LAST-MODIFIED:20250630T153523Z
UID:10000018-1749931200-1749938400@oststeiermark.at
SUMMARY:Charlie und die Kaischlabuam
DESCRIPTION:Songs über die Liebe\, das Leben\, das Saufen\, das Scheitern\, Bonobos\, Neandertaler\, grindige Mopeds\, verrückte Schwalben und verliebte Forellen! Dazu gibt’s eigenhändig erlebte Gschichtl und den Charme der steirischen Boygroup. Lassen sie sich ein auf eine seltsame Reise in die robuste Seelenlandschaft der Kaischlabuam. Sie werden diese Reise als anderer Mensch verlassen\, Ob besser- ungewiss!Ein Abend mit:Charlie Kainz: Gesang\, Gitarre\, FußmaschinRobert Masser: Gitarre\, GesangGerd Steinrück: KontrabassMartin Burböck: steirische Harmonika und Gesang
URL:https://oststeiermark.at/event/charlie-und-die-kaischlabuam/
LOCATION:Bierwerkstatt Nestelberg\, Nestelberg 8\, Ilz\, 8262
CATEGORIES:Kunst & Kultur
ATTACH;FMTTYPE=image/jpeg:https://oststeiermark.at/wp-content/uploads/kaischlabuam2-768x561-1.jpg
END:VEVENT
BEGIN:VEVENT
DTSTART;TZID=Europe/Vienna:20241005T200000
DTEND;TZID=Europe/Vienna:20241005T233000
DTSTAMP:20260419T224107
CREATED:20240714T133309Z
LAST-MODIFIED:20250630T154438Z
UID:10000061-1728158400-1728171000@oststeiermark.at
SUMMARY:Konzert: Quadriga exp.
DESCRIPTION:Während die Schulkollegen beim 5 Uhr Tee waren\, haben sich die Wiener Hannes\, Rolf und Robert im Proberaum mit Musik von Billy Cobham\, Jean Luc Ponty\, Genesis\, Herbie Hancock u. v. a. befasst. Ein paar Jahrzehnte später begeben sie sich als Quadriga exp. mit steirischer Verstärkung auf musikalische Spurensuche. Dabei gibt es vor allem eines nicht: Grenzen. Der Stil bewegt sich irgendwo zwischen Jazz Rock\, Blues\, Funk und Rock. \n\n\n\nMagda Bloder\, voc.Hannes Maly\, dr.Andreas Michelitsch\, sax.Rolf Petersen\, git.Arno Ruthofer\, p.\, voc.Robert Tesar\, b. \n\n\n\nAftershowparty mit DJ Andy L.
URL:https://oststeiermark.at/event/konzert-quadriga-exp/
LOCATION:Bierwerkstatt Nestelberg\, Nestelberg 8\, Ilz\, 8262
CATEGORIES:Kunst & Kultur
ATTACH;FMTTYPE=image/jpeg:https://oststeiermark.at/wp-content/uploads/Plakat_quadriga_kl.jpg
END:VEVENT
BEGIN:VEVENT
DTSTART;TZID=Europe/Vienna:20240914T200000
DTEND;TZID=Europe/Vienna:20240914T230000
DTSTAMP:20260419T224107
CREATED:20240714T131931Z
LAST-MODIFIED:20250704T062440Z
UID:10000070-1726344000-1726354800@oststeiermark.at
SUMMARY:Konzert Southern Blues Club
DESCRIPTION:„Southern Blues Club“A New Band in Town! Der Southern Blues Club ist bereit\, seine neuen Blues-Tracks mit der Welt zu teilen. Tauchen Sie ein in die lebendige Blues-Szene der Südoststeiermark\, wo die Musik des Southern Blues Club neue Kompositionen mit einer alten Blues-Atmosphäre verbindet. Gemeinsam schaffen sie ein einzigartiges Klangerlebnis\, das die Essenz der Südoststeiermark einfängt und Tradition und Innovation in den Blues einwebt. \n\n\n\nFlorian Trummer: guitar & vocalsBernhard Potzmann: drumsMaximilian Ranzinger: bassFabian Supancic: organ \n\n\n\nAftershowparty mit DJ Andy L.
URL:https://oststeiermark.at/event/konzert-southern-blues-club/
LOCATION:Bierwerkstatt Nestelberg\, Nestelberg 8\, Ilz\, 8262
CATEGORIES:Kunst & Kultur
ATTACH;FMTTYPE=image/jpeg:https://oststeiermark.at/wp-content/uploads/Plakat_southern_kl.jpg
END:VEVENT
BEGIN:VEVENT
DTSTART;TZID=Europe/Vienna:20240803T200000
DTEND;TZID=Europe/Vienna:20240803T233000
DTSTAMP:20260419T224107
CREATED:20240714T123628Z
LAST-MODIFIED:20250704T064317Z
UID:10000089-1722715200-1722727800@oststeiermark.at
SUMMARY:Konzert FULL SUPA BAND
DESCRIPTION:Spielfreude\,  Liebe zur Nostalgie\, kurioses Liedgut und die Auseinandersetzung mit „genial Banalem“ – aber auch „banal Genialem“ trifft hier auf Improvisation und Experimentierfreudigkeit. Wilde Zeiten neu interpretiert … Im Repertoire der FSB findet ihr Musik der 50er und 60er Jahre – Rock’n’Roll Klassiker\, Evergreens\, so manch vielleicht vergessener Song\, vermeintlich abgedroschene „Hodern“ oder typische Jukebox-Hits. Die FULL SUPA BAND ist eine Party- und Eventband der etwas anderen Art. Einfach FULL SUPA!www.fullsupaband.com \n\n\n\nAlfred Lang – Trumpet & Growl VocalsHansi Rainer – Bass & Heroic Vocals\,  www.hansiandthegretels.comPeter Taucher – Guitar & Strange Vocals\, www.peter-taucher.atJörg Haberl – Drums & Sexy Vocals\, www.jkhabe.com \n\n\n\nAftershowparty mit DJ Andy L.
URL:https://oststeiermark.at/event/konzert-full-supa-band/
LOCATION:Bierwerkstatt Nestelberg\, Nestelberg 8\, Ilz\, 8262
CATEGORIES:Kunst & Kultur
ATTACH;FMTTYPE=image/jpeg:https://oststeiermark.at/wp-content/uploads/Plakat_full_supa_kl.jpg
END:VEVENT
BEGIN:VEVENT
DTSTART;TZID=Europe/Vienna:20240720T200000
DTEND;TZID=Europe/Vienna:20240720T230000
DTSTAMP:20260419T224107
CREATED:20240714T115751Z
LAST-MODIFIED:20250704T064843Z
UID:10000100-1721505600-1721516400@oststeiermark.at
SUMMARY:Konzert Ripoff Raskolnikov & friends
DESCRIPTION:Ripoff Raskolnikov & friends \n\n\n\nDer in Graz lebende Bluesgitarrist und Singer/Songwriter Ripoff Raskolnikov gehört zu den authentischsten Vertretern seines Genres. Seine Bewunderung für die Blues-Größen der ersten Stunde wie Blind Willie McTell\, Skip James\, Robert Johnson oder John Lee Hooker findet ihren Ausdruck nicht in Imitation. Vielmehr verbindet ihn mit ihnen die Konsequenz\, mit der er seinen Weg nun schon seit Jahrzehnten geht\, ohne sich um Modeströmungen jeglicher Art zu kümmern\, und die unerschütterliche Integrität\, mit der er versucht\, menschliche Emotionen auszuloten und in Musik zu verwandeln. So entstehen kraftvoll poetische Songs\, die sich nicht selten musikalischer Kategorisierung entziehen. \n\n\n\nMit seinem Bühnencharisma\, seinem trockenen Humor\, seinem ganz individuellen Zugang zum Blues\, und seinem offensichtlichen Faible für schlecht sitzende Anzüge\, verwaschen-welke Knopflochrosen und müllplatzverdächtige Hüte ist Raskolnikov außerdem ein Musiker\, den man nicht nur hören\, sondern auch sehen möchte. \n\n\n\nBegleitet wird er von Klaus Ambrosch (Sologitarre\, Gesang)\, Walter „Shakey“ Kreinz (Bassgitarre) und Ismael Barrios (Perkussion)\, drei alten Freunden und Weggefährten\, die es auf ebenso virtuose wie einfühlsame Weise verstehen\, sich auf jenen Dialog zwischen Wort und Klang\, Musik und Poesie einzulassen\, der seit den Zeiten eines Robert Johnson die Magie des Blues ausmacht. \n\n\n\n19.30 Uhr Vernissage von Maria Justine Gross „inside – outside“Die Ausstellung besteht einerseits aus ihren künstlerisch hochwertigen Fotoarbeiten\, andererseits aus einem Ausschnitt ihrer umfangreichen Kunstsammlung\, bestehend aus namhaften und regionalen Künstlerinnen und Künstlern. Die Fotoarbeiten zeigen vor allem Natur\, das Beobachten und Betrachten von Schönem im Gewöhnlichen und im Außergewöhnlichem. Die Fotografien sind Momentaufnahmen\, unbearbeitet „ungeschminkt“ gelassen oder mehrschichtig überarbeitet\, sodass ein gänzlich neues eigenständiges\, oftmals abstraktes Werk entsteht. \n\n\n\nAusstellungsdauer bis 07.09.2024\, jeweils Do. bis Sa. von 14.00 bis 20.00 Uhr und zu den Events \n\n\n\nAftershowparty mit DJ Andy L.
URL:https://oststeiermark.at/event/ripoff-raskolnikov-friends/
LOCATION:Bierwerkstatt Nestelberg\, Nestelberg 8\, Ilz\, 8262
CATEGORIES:Kunst & Kultur
ATTACH;FMTTYPE=image/jpeg:https://oststeiermark.at/wp-content/uploads/Plakat_ripoff_kl.jpg
END:VEVENT
END:VCALENDAR