BEGIN:VCALENDAR
VERSION:2.0
PRODID:-//Regionalentwicklung Oststeiermark - ECPv6.15.20//NONSGML v1.0//EN
CALSCALE:GREGORIAN
METHOD:PUBLISH
X-WR-CALNAME:Regionalentwicklung Oststeiermark
X-ORIGINAL-URL:https://oststeiermark.at
X-WR-CALDESC:Veranstaltungen für Regionalentwicklung Oststeiermark
REFRESH-INTERVAL;VALUE=DURATION:PT1H
X-Robots-Tag:noindex
X-PUBLISHED-TTL:PT1H
BEGIN:VTIMEZONE
TZID:Europe/Vienna
BEGIN:DAYLIGHT
TZOFFSETFROM:+0100
TZOFFSETTO:+0200
TZNAME:CEST
DTSTART:20230326T010000
END:DAYLIGHT
BEGIN:STANDARD
TZOFFSETFROM:+0200
TZOFFSETTO:+0100
TZNAME:CET
DTSTART:20231029T010000
END:STANDARD
BEGIN:DAYLIGHT
TZOFFSETFROM:+0100
TZOFFSETTO:+0200
TZNAME:CEST
DTSTART:20240331T010000
END:DAYLIGHT
BEGIN:STANDARD
TZOFFSETFROM:+0200
TZOFFSETTO:+0100
TZNAME:CET
DTSTART:20241027T010000
END:STANDARD
BEGIN:DAYLIGHT
TZOFFSETFROM:+0100
TZOFFSETTO:+0200
TZNAME:CEST
DTSTART:20250330T010000
END:DAYLIGHT
BEGIN:STANDARD
TZOFFSETFROM:+0200
TZOFFSETTO:+0100
TZNAME:CET
DTSTART:20251026T010000
END:STANDARD
END:VTIMEZONE
BEGIN:VEVENT
DTSTART;TZID=Europe/Vienna:20240706T203000
DTEND;TZID=Europe/Vienna:20240714T223000
DTSTAMP:20260420T081252
CREATED:20240714T114028Z
LAST-MODIFIED:20250704T065130Z
UID:10000106-1720297800-1720996200@oststeiermark.at
SUMMARY:Theater im Park - In dieser wunderschönen Nacht
DESCRIPTION:Mit „In dieser wunderschönen Nacht“\, eine Kriminalkomödie in zwei Akten von Ulrich G. Engelmann\, bietet das Theater im Park St. Ruprecht an der Raab auch heuer wieder beste Unterhaltung. \n\n\n\nHeidi Förster vermisst ihren Mann. Seit dem 22. Dezember ist er auf Geschäftsreise und hat seither kein Lebenszeichen von sich gegeben. Auf Anraten ihrer Freunde und Nachbarn erstattet sie eine Vermisstenanzeige. Als die Polizei bei ihr erscheint\, äußert Elfriede Allbrink\, die Hausbewohnerin aus der Wohnung über ihr\, jedoch einen ungeheuerlichen Verdacht. Heidi Förster soll ihren Mann ermordet\, zerlegt und aus dem Haus geschafft haben. Obwohl Heidi diesen Verdacht mit Empörung zurückweist\, werden Indizien gefunden\, die möglicherweise auf ein Verbrechen hindeuten könnten\, womöglich aber auch auf etwas ganz anderes. \n\n\n\nKönnen die Ermittler Heidi’s Mann aufspüren und ihn wohlbehalten nach Hause bringen? Welche Intrigen spielen sich zwischen den Hausbewohnern ab und was befindet sich in den mysteriösen Reisekoffern? \n\n\n\nGespielt wird von Samstag\, 6. Juli bis Sonntag 14. Juli\, am Montag 8. Juli ist spielfrei.Beginn jeweils 20.30 Uhr.
URL:https://oststeiermark.at/event/theater-im-park-in-dieser-wunderschoenen-nacht/
LOCATION:Kunstpark Sankt Ruprecht an der Raab\, Schilsweg\, Sankt Ruprecht an der Raab\, 8181
CATEGORIES:Kunst & Kultur
ATTACH;FMTTYPE=image/jpeg:https://oststeiermark.at/wp-content/uploads/Theater_im_Park.jpg
END:VEVENT
END:VCALENDAR