BEGIN:VCALENDAR
VERSION:2.0
PRODID:-//Regionalentwicklung Oststeiermark - ECPv6.15.20//NONSGML v1.0//EN
CALSCALE:GREGORIAN
METHOD:PUBLISH
X-ORIGINAL-URL:https://oststeiermark.at
X-WR-CALDESC:Veranstaltungen für Regionalentwicklung Oststeiermark
REFRESH-INTERVAL;VALUE=DURATION:PT1H
X-Robots-Tag:noindex
X-PUBLISHED-TTL:PT1H
BEGIN:VTIMEZONE
TZID:Europe/Vienna
BEGIN:DAYLIGHT
TZOFFSETFROM:+0100
TZOFFSETTO:+0200
TZNAME:CEST
DTSTART:20230326T010000
END:DAYLIGHT
BEGIN:STANDARD
TZOFFSETFROM:+0200
TZOFFSETTO:+0100
TZNAME:CET
DTSTART:20231029T010000
END:STANDARD
BEGIN:DAYLIGHT
TZOFFSETFROM:+0100
TZOFFSETTO:+0200
TZNAME:CEST
DTSTART:20240331T010000
END:DAYLIGHT
BEGIN:STANDARD
TZOFFSETFROM:+0200
TZOFFSETTO:+0100
TZNAME:CET
DTSTART:20241027T010000
END:STANDARD
BEGIN:DAYLIGHT
TZOFFSETFROM:+0100
TZOFFSETTO:+0200
TZNAME:CEST
DTSTART:20250330T010000
END:DAYLIGHT
BEGIN:STANDARD
TZOFFSETFROM:+0200
TZOFFSETTO:+0100
TZNAME:CET
DTSTART:20251026T010000
END:STANDARD
BEGIN:DAYLIGHT
TZOFFSETFROM:+0100
TZOFFSETTO:+0200
TZNAME:CEST
DTSTART:20260329T010000
END:DAYLIGHT
BEGIN:STANDARD
TZOFFSETFROM:+0200
TZOFFSETTO:+0100
TZNAME:CET
DTSTART:20261025T010000
END:STANDARD
END:VTIMEZONE
BEGIN:VEVENT
DTSTART;TZID=Europe/Vienna:20250524T110000
DTEND;TZID=Europe/Vienna:20250524T130000
DTSTAMP:20260419T224037
CREATED:20250514T162431Z
LAST-MODIFIED:20250630T153858Z
UID:10000052-1748084400-1748091600@oststeiermark.at
SUMMARY:10 Jahre Art Machine in Pöllau
DESCRIPTION:Seit zehn Jahren schafft die Art Machine am Pöllauer Hauptplatz die denkbar einfachste Möglichkeit\, zur Kunstsammler:in zu werden. Der Automat bietet für zwei Münzen rund um die Uhr originelle Kunst im Miniaturformat von namhaften wie aufstrebenden jungen Künstler:innen. \nSeit 2016 wird der Kunstautomat alljährlich mit neue Serien alter und neuer Künstler:innen nachgefüllt. So haben mit der heurigen Ausgabe bisher 80 Künstler:innen mit 100 Werkserien aus allen erdenklichen Kunstrichtungen diesen kleinsten Kunstraum der Oststeiermark zu einem beliebten Sammler:innen-Treffpunkt werden lassen. \nArtikel etwa in der Wiener Zeitung und im Reisebegleiter „Glücksorte in der Steiermark“ wissen davon zu berichten. Als originelle künstlerische Überaschungen in der zigarettenschachtelgroßen Box findet man Malereien in Aquarell\, Acryl und Öl\, Grafiken\, Drucke\, Fotografien\, Keramiken und Objekte aus unterschiedlichen Materialien\, sogar Literatur\, Theater und Musik waren bereits darin.  \nAus der Sicht der Künstler:innen „stellt die Artmachine die Herausforderung\, auf kleinem Raum Kunstwerke zu schaffen. Dies ist auch gleichzeitig das Schöne\, mit Wenig schon Großes schaffen zu können.“ \nDie diesjährige Vernissage findet am Samstag\, den 24. Mai 2025\, um 11:00 Uhr am Hauptplatz Pöllau statt. Vorgestellt werden neue Serien von Daniela Brasil\, Anatol Gietler\, Dunja Krcek\, Catrin Manoli\, Victoria Pollauf und Margo Sarkisova. Die Präsentation wird von Wanda Deutsch vom Kunstfreundeskreis Graz moderiert\, mit einer künstlerischen Kommentierung durch die polnische Voice- und Soundkünstlerin Anna Jurkiewicz.
URL:https://oststeiermark.at/event/10-jahre-art-machine-in-poellau/
LOCATION:Hauptplatz der Marktgemeinde Pöllau\, Hauptplatz\, Pöllau\, 8225
CATEGORIES:Kunst & Kultur
ATTACH;FMTTYPE=image/jpeg:https://oststeiermark.at/wp-content/uploads/Art_Machine_Poellau_Foto_Ch.Strassegger.jpg
END:VEVENT
BEGIN:VEVENT
DTSTART;TZID=Europe/Vienna:20240720T100000
DTEND;TZID=Europe/Vienna:20240721T170000
DTSTAMP:20260419T224037
CREATED:20240714T183027Z
LAST-MODIFIED:20250704T064929Z
UID:10000102-1721469600-1721581200@oststeiermark.at
SUMMARY:"gut aufgelegt" am Land - DJ Workshop mit den GRRRLS
DESCRIPTION:Der Grrrls Kulturverein veranstaltet DJ Workshops für Mädchen* und Frauen*.Mit schillernden Gastdozentinnen* wird niederschwellig erstklassiges Know How an alle Interessentinnen* vermittelt.An zwei Tagen voller Beats und Grooves ermutigt der Workshop zur lustvollen Eroberung der DJ-Welt: Angefangen beim Kennenlernen des technischen Equipments\, Erforschen der Turntabels und CDJs\, gefolgt vom digitalen Auflegen bis zum Diskurs „Auflegen als FINTA DJ“. \n\n\n\nDie Protagonistinnen*: \n\n\n\nTurntables (dt. Plattenspieler): Masha Debelka (RU/A)Masha ist die Gründerin der TURNTABLISTA in Wien\, der ersten DJ-Schule Österreichs\, die von einer Frau gegründet wurde. Masha setzt es sich als Ziel\, ein starkes weibliches Rollenbild für angehende Musikerinnen zu schaffen. Masha ist aber nicht nur in ihrer DJ-Schule anzutreffen\, sie ist außerdem auch Musikproduzentin\, DJ\, Live-Performerin und Sound-Künstlerin. Ihr erstes Soloalbum auf Vinyl wurde 2017 veröffentlicht. Die erfahrene Musikproduzentin und DJ reist mit dem Workshop-Publikum durch die Musikgeschichte\, spricht über physikalische Grundbedingungen von Instrumenten und Wiedergabegeräten und bietet einen Einstieg in Musikmedien. \n\n\n\nCDJ (mit mp3 Files auf USB Stick): Loryn (US/DE) Geboren ist Loryn in den USA\, seit einigen Jahren lebt sie in Berlin und dort gründete sie auch ihr eigenes Record Label „Caterpillar Audio“. Loryn ist als DJ\, Produzentin und Labelchefin aktiv und spielt bei ihren Live-Auftritten jazzige Sounds\, klassische Musik und Stimmen ein. Ihre Spezialität: unterschiedlichste Menschen auf dem Parkett zum Tanzen zu bringen. Bei unserem Workshop wird dir Loryn den richtigen Umgang mit CDJ-Playern näher bringen und dir die Technik des Mischens erklären. \n\n\n\nAufbau des DJ Sets und Theorie: Grrrls DJ Crew (A/BiH/DE/GR)Die Grrrls DJ Crew\, bestehend aus dreizehn Performerinnen*\, gründete sich 2017 aufgrund der Unterrepräsentation von weiblichen* DJs in der (grazer) Clubszene und versteht sich als aktiver Beitrag zur gelebten Gleichberechtigung. Im Workshop bringen sie dir nicht nur bei\, wie man sein DJ Set aufbaut\, sondern plaudern auch ein wenig aus dem Nähkästchen: wie bereitet man sich auf den ersten Auftritt vor und wo kann man überhaupt als „DJ Rookie“ auflegen? Wo ist die gute Musik zu Hause und wer wohnt dort sonst noch? Wie fühlt es sich an Teil der besten DJ Crew in Graz zu sein? \n\n\n\nDer Workshop wird gefördert von Stadt Graz – Kultur\, Stadt Graz – Frauenreferat\, Land Stmk – Kultur\, Land Stmk – Jugend\, BMKÖS Kultur und SKE.Die Teilnahme ist kostenlos.
URL:https://oststeiermark.at/event/gut-aufgelegt-am-land-dj-workshop-mit-den-grrrls/
LOCATION:Schloss Pöllau\, Schloss 1\, Pöllau\, 8225
CATEGORIES:Kunst & Kultur
ATTACH;FMTTYPE=image/jpeg:https://oststeiermark.at/wp-content/uploads/processed_grrrls_10-1110x740-1.jpg
END:VEVENT
BEGIN:VEVENT
DTSTART;TZID=Europe/Vienna:20240719T110000
DTEND;TZID=Europe/Vienna:20240721T170000
DTSTAMP:20260419T224037
CREATED:20240714T182710Z
LAST-MODIFIED:20250704T065013Z
UID:10000104-1721386800-1721581200@oststeiermark.at
SUMMARY:Graffiti und Street Art mit Susanna Katter
DESCRIPTION:Der Graffiti Workshop für Erwachsene bietet die Gelegenheit\, künstlerische Fähigkeiten durch die Erkundung verschiedener Techniken und Stile der Graffitikunst zu erweitern. Unabhängig von der Erfahrungsebene ist dieser Workshop für alle\, ob Anfänger:in oder Fortgeschrittene Künstler:innen gestaltet. \n\n\n\nIm Verlauf des Workshops erlernen die Teilnehmer:innen den richtigen Umgang mit der Sprühdose und setzen diese Techniken in praktischen Projekten um. Die Anwendung unterschiedlicher Methoden\, von Wandfarbe über Walzen bis hin zur Nutzung von Schablonen\, ermöglicht es ihnen\, ihre Fertigkeiten in der Graffitikunst zu diversifizieren und ihre eigene künstlerische Identität zu entwickeln. \n\n\n\nEin weiterer zentraler Aspekt des Workshops ist das gemeinsame Skizzieren\, bei dem Ideen ausgetauscht und voneinander gelernt wird. In einer kreativen Gemeinschaft entstehen Skizzen\, begleitet von detaillierten Erklärungen zur Übertragung auf Großformatwände. Diese Praxis fördert nicht nur die Umsetzung individueller Ideen\, sondern auch den kreativen Austausch und die Zusammenarbeit in der Graffiti und Streetart Kunst.Weitere Infos: https://www.styriansummerart.at/de/kunstkurse/kunstkurse/graffiti-und-street-art-mit-susanna-katter
URL:https://oststeiermark.at/event/graffiti-und-street-art-mit-susanna-katter/
CATEGORIES:Kunst & Kultur
ATTACH;FMTTYPE=image/jpeg:https://oststeiermark.at/wp-content/uploads/Imnotyoursweetie-sm-1110x1334-1.jpg
END:VEVENT
END:VCALENDAR