BEGIN:VCALENDAR
VERSION:2.0
PRODID:-//Regionalentwicklung Oststeiermark - ECPv6.15.20//NONSGML v1.0//EN
CALSCALE:GREGORIAN
METHOD:PUBLISH
X-WR-CALNAME:Regionalentwicklung Oststeiermark
X-ORIGINAL-URL:https://oststeiermark.at
X-WR-CALDESC:Veranstaltungen für Regionalentwicklung Oststeiermark
REFRESH-INTERVAL;VALUE=DURATION:PT1H
X-Robots-Tag:noindex
X-PUBLISHED-TTL:PT1H
BEGIN:VTIMEZONE
TZID:Europe/Vienna
BEGIN:DAYLIGHT
TZOFFSETFROM:+0100
TZOFFSETTO:+0200
TZNAME:CEST
DTSTART:20230326T010000
END:DAYLIGHT
BEGIN:STANDARD
TZOFFSETFROM:+0200
TZOFFSETTO:+0100
TZNAME:CET
DTSTART:20231029T010000
END:STANDARD
BEGIN:DAYLIGHT
TZOFFSETFROM:+0100
TZOFFSETTO:+0200
TZNAME:CEST
DTSTART:20240331T010000
END:DAYLIGHT
BEGIN:STANDARD
TZOFFSETFROM:+0200
TZOFFSETTO:+0100
TZNAME:CET
DTSTART:20241027T010000
END:STANDARD
BEGIN:DAYLIGHT
TZOFFSETFROM:+0100
TZOFFSETTO:+0200
TZNAME:CEST
DTSTART:20250330T010000
END:DAYLIGHT
BEGIN:STANDARD
TZOFFSETFROM:+0200
TZOFFSETTO:+0100
TZNAME:CET
DTSTART:20251026T010000
END:STANDARD
END:VTIMEZONE
BEGIN:VEVENT
DTSTART;TZID=Europe/Vienna:20240807T193000
DTEND;TZID=Europe/Vienna:20240807T220000
DTSTAMP:20260420T042907
CREATED:20240715T161608Z
LAST-MODIFIED:20250704T064255Z
UID:10000088-1723059000-1723068000@oststeiermark.at
SUMMARY:Funky Beats am Südtirolerplatz
DESCRIPTION:Die Grazer Band Candlelight Ficus spielt mitreißenden Funk-Pop\, erdige Grooves und eingängige Melodien. Hier bleibt kein Fuß neben dem anderen: Feel-Good-Musik pur.
URL:https://oststeiermark.at/event/funky-beats-am-suedtirolerplatz/
LOCATION:Südtirolerplatz Anger\, Südtiroler Platz 2\, Anger\, 8184
CATEGORIES:Kunst & Kultur
ATTACH;FMTTYPE=image/webp:https://oststeiermark.at/wp-content/uploads/unnamed-file.webp
END:VEVENT
END:VCALENDAR