BEGIN:VCALENDAR
VERSION:2.0
PRODID:-//Regionalentwicklung Oststeiermark - ECPv6.15.20//NONSGML v1.0//EN
CALSCALE:GREGORIAN
METHOD:PUBLISH
X-WR-CALNAME:Regionalentwicklung Oststeiermark
X-ORIGINAL-URL:https://oststeiermark.at
X-WR-CALDESC:Veranstaltungen für Regionalentwicklung Oststeiermark
REFRESH-INTERVAL;VALUE=DURATION:PT1H
X-Robots-Tag:noindex
X-PUBLISHED-TTL:PT1H
BEGIN:VTIMEZONE
TZID:Europe/Vienna
BEGIN:DAYLIGHT
TZOFFSETFROM:+0100
TZOFFSETTO:+0200
TZNAME:CEST
DTSTART:20230326T010000
END:DAYLIGHT
BEGIN:STANDARD
TZOFFSETFROM:+0200
TZOFFSETTO:+0100
TZNAME:CET
DTSTART:20231029T010000
END:STANDARD
BEGIN:DAYLIGHT
TZOFFSETFROM:+0100
TZOFFSETTO:+0200
TZNAME:CEST
DTSTART:20240331T010000
END:DAYLIGHT
BEGIN:STANDARD
TZOFFSETFROM:+0200
TZOFFSETTO:+0100
TZNAME:CET
DTSTART:20241027T010000
END:STANDARD
BEGIN:DAYLIGHT
TZOFFSETFROM:+0100
TZOFFSETTO:+0200
TZNAME:CEST
DTSTART:20250330T010000
END:DAYLIGHT
BEGIN:STANDARD
TZOFFSETFROM:+0200
TZOFFSETTO:+0100
TZNAME:CET
DTSTART:20251026T010000
END:STANDARD
END:VTIMEZONE
BEGIN:VEVENT
DTSTART;TZID=Europe/Vienna:20240927T200000
DTEND;TZID=Europe/Vienna:20240927T230000
DTSTAMP:20260420T004819
CREATED:20240714T185608Z
LAST-MODIFIED:20250630T154808Z
UID:10000064-1727467200-1727478000@oststeiermark.at
SUMMARY:HORST - Kultur in Passail
DESCRIPTION:„Auf der Suche nach dem besten Programm der Welt„ \n\n\n\nEin Abend mit Horst knüpft an die österreichische Tradition des verblödelten Satirekonzerts im Geiste der EAV oder Drahdiwaberl an …nur jazziger … oder hiphoppiger … oder schlagermäßiger … oder so irgendwie. \n\n\n\nBestehend aus Mario Lang\, Stefan Könighofer\, Philipp Wilfinger\, Matthias Rosman und Lukas Maierhofer spielt für sie eine eingeschworene Gruppe aus hochraketigen Musikern mit viel Spaß am schlechten Wortspiel\, Verkleiden\, Witzereißen und Geschichtenerzählen. In jedem Fall ein super unterhaltsamer Abend für Jung und Nicht-mehr so-jung! \n\n\n\nKarten: \n\n\n\n\nAbendkassa: € 30\,-\n\n\n\nVorverkauf: € 25\,-\n\n\n\nStudenten u. Schüler: € 20\,-\n\n\n\nKinder bis 6 J.: € 4\,-\n\n\n\n\nTickets online kaufen! \n\n\n\n\n\n\n\n\n\nBeginn um 20.00 UhrEinlass: ab 19.00 UhrInfos: 0664/75 00 26 70
URL:https://oststeiermark.at/event/horst-kultur-in-passail/
LOCATION:Raabursprungshalle Passail\, Weizer Str. 46\, Passail\, 8162
CATEGORIES:Kunst & Kultur
ATTACH;FMTTYPE=image/webp:https://oststeiermark.at/wp-content/uploads/Horst_Ralph-Koenig_Oststeiermark_38724214.webp
END:VEVENT
BEGIN:VEVENT
DTSTART;TZID=Europe/Vienna:20240307T200000
DTEND;TZID=Europe/Vienna:20240307T220000
DTSTAMP:20260420T004819
CREATED:20240307T065034Z
LAST-MODIFIED:20250704T070229Z
UID:10000126-1709841600-1709848800@oststeiermark.at
SUMMARY:Lesung Sigrid Sonberg
DESCRIPTION:Die Steirerin Sigrid Sonberg präsentiert ihren Roman Die andere Frau am Weltfrauentag 2024 in Passail – untermalt von Gitarrenklängen des Duos Blue Gecko aus Graz. \n\n\n\nDie gebürtige Grazerin Sigrid Sonberg\, heute in der Südweststeiermark lebend\, ist mehrfach literarisch ausgezeichnet. Sie schreibt Romane\, Erzählungen. Früher mit Geschichten für Kinder und dem Lesetheater landesweit tätig an Schulen. www.sigrid-sonberg.at \n\n\n\nEin Lese-Event\, mit Musik vom Gitarren Duo Blue Gecko\, Barbara Reisinger und Richard Dopler\, mit Weinverkostung von einer bekannten Winzerin.
URL:https://oststeiermark.at/event/lesung-sigrid-sonberg/
LOCATION:Kultursaal Passail\, Weizer Str. 44\, Passail\, 8162
CATEGORIES:Kunst & Kultur
ATTACH;FMTTYPE=image/jpeg:https://oststeiermark.at/wp-content/uploads/Sonberg_Lesekrimi.jpg
END:VEVENT
END:VCALENDAR