BEGIN:VCALENDAR
VERSION:2.0
PRODID:-//Regionalentwicklung Oststeiermark - ECPv6.15.20//NONSGML v1.0//EN
CALSCALE:GREGORIAN
METHOD:PUBLISH
X-ORIGINAL-URL:https://oststeiermark.at
X-WR-CALDESC:Veranstaltungen für Regionalentwicklung Oststeiermark
REFRESH-INTERVAL;VALUE=DURATION:PT1H
X-Robots-Tag:noindex
X-PUBLISHED-TTL:PT1H
BEGIN:VTIMEZONE
TZID:Europe/Vienna
BEGIN:DAYLIGHT
TZOFFSETFROM:+0100
TZOFFSETTO:+0200
TZNAME:CEST
DTSTART:20230326T010000
END:DAYLIGHT
BEGIN:STANDARD
TZOFFSETFROM:+0200
TZOFFSETTO:+0100
TZNAME:CET
DTSTART:20231029T010000
END:STANDARD
BEGIN:DAYLIGHT
TZOFFSETFROM:+0100
TZOFFSETTO:+0200
TZNAME:CEST
DTSTART:20240331T010000
END:DAYLIGHT
BEGIN:STANDARD
TZOFFSETFROM:+0200
TZOFFSETTO:+0100
TZNAME:CET
DTSTART:20241027T010000
END:STANDARD
BEGIN:DAYLIGHT
TZOFFSETFROM:+0100
TZOFFSETTO:+0200
TZNAME:CEST
DTSTART:20250330T010000
END:DAYLIGHT
BEGIN:STANDARD
TZOFFSETFROM:+0200
TZOFFSETTO:+0100
TZNAME:CET
DTSTART:20251026T010000
END:STANDARD
END:VTIMEZONE
BEGIN:VEVENT
DTSTART;TZID=Europe/Vienna:20240729T090000
DTEND;TZID=Europe/Vienna:20240803T220000
DTSTAMP:20260420T061823
CREATED:20240731T102914Z
LAST-MODIFIED:20250704T064540Z
UID:10000095-1722243600-1722722400@oststeiermark.at
SUMMARY:Evolutionäres Summer Lab 24
DESCRIPTION:Künstlerinnen machen sich auf die Spur der Evolution. Woher kommen wir? Wohin gehen wir? Wer bin ich? Das gilt sowohl für persönliche Entwicklungen als auch für die Entwicklung der ganzen Spezies und generell für das gemeine Alltagsleben aller Parasiten dieses Planeten. Darüber hinaus stellt sich die Frage nach den Körpern der Zukunft\, die wir zwar nicht planen\, aber deren Weichen wir stellen können oder die man einfach ganz utopisch ersinnen kann. Jetzt wo wir schon einmal hier sind\, kann man die Frage nach dem Schöpfer getrost beiseite legen\, weil diese in diesem Zusammenhang gewöhnlich am meisten Energie frisst. Lebewesen\, ob mit oder ohne Daseinsberechtigung\, machen sich Gedanken über das Leben. Beiträge in allen Formaten sind denkbar aber im Format 60x60cm erwünscht (das ergibt die vorgesehene Ausstellugsfläche). Weitere Beiträge in freien Formaten\, Medien\, Texten\, Frequenzen und Materialien nach Bedarf\, Platz und Vereinbarunmg. Die Beiträge werden für ein Jahr im Aussenraum präsentiert als Zeitstrahl der menschlichen Evolution und gehen dann wieder in den Besitz der Künstler über\, werden verkauft oder der Aussenfassde des Haus Nr. 1 geliehen. Weitere Formate weden im Innenraum präsentiert. Weitere Entwicklung sind offen.
URL:https://oststeiermark.at/event/evolutionaeres-summer-lab-24/
LOCATION:ST. RUPRECHT 1\, Untere Hauptstrasse 1\, Sankt Ruprecht an der Raab\, 8181
CATEGORIES:Kunst & Kultur
ATTACH;FMTTYPE=image/jpeg:https://oststeiermark.at/wp-content/uploads/ST_Rupprecht.jpg
END:VEVENT
END:VCALENDAR