BEGIN:VCALENDAR
VERSION:2.0
PRODID:-//Regionalentwicklung Oststeiermark - ECPv6.15.20//NONSGML v1.0//EN
CALSCALE:GREGORIAN
METHOD:PUBLISH
X-ORIGINAL-URL:https://oststeiermark.at
X-WR-CALDESC:Veranstaltungen für Regionalentwicklung Oststeiermark
REFRESH-INTERVAL;VALUE=DURATION:PT1H
X-Robots-Tag:noindex
X-PUBLISHED-TTL:PT1H
BEGIN:VTIMEZONE
TZID:Europe/Vienna
BEGIN:DAYLIGHT
TZOFFSETFROM:+0100
TZOFFSETTO:+0200
TZNAME:CEST
DTSTART:20230326T010000
END:DAYLIGHT
BEGIN:STANDARD
TZOFFSETFROM:+0200
TZOFFSETTO:+0100
TZNAME:CET
DTSTART:20231029T010000
END:STANDARD
BEGIN:DAYLIGHT
TZOFFSETFROM:+0100
TZOFFSETTO:+0200
TZNAME:CEST
DTSTART:20240331T010000
END:DAYLIGHT
BEGIN:STANDARD
TZOFFSETFROM:+0200
TZOFFSETTO:+0100
TZNAME:CET
DTSTART:20241027T010000
END:STANDARD
BEGIN:DAYLIGHT
TZOFFSETFROM:+0100
TZOFFSETTO:+0200
TZNAME:CEST
DTSTART:20250330T010000
END:DAYLIGHT
BEGIN:STANDARD
TZOFFSETFROM:+0200
TZOFFSETTO:+0100
TZNAME:CET
DTSTART:20251026T010000
END:STANDARD
END:VTIMEZONE
BEGIN:VEVENT
DTSTART;TZID=Europe/Vienna:20240829T193000
DTEND;TZID=Europe/Vienna:20240829T230000
DTSTAMP:20260420T021655
CREATED:20240714T131128Z
LAST-MODIFIED:20250704T063622Z
UID:10000080-1724959800-1724972400@oststeiermark.at
SUMMARY:Steirisches Kammer Musik Festival 2024
DESCRIPTION:EliteLGT Young Soloists  \n\n\n\nVon „Elitenbildung“ spricht man häufig abfällig. Keinen Grund dafür liefern jedoch die LGT Young Soloists: Diese international handverlesenen jungen Solistinnen und Solisten bilden als musikalische Elite seit 2013 ein Kammerorchester\, das in Gleisdorf mit einem virtuosen Streicherprogramm Maßstäbe setzt. \n\n\n\nGiovanni Bottesini: Grand Duo für Violine\, Kontrabass und StreichorchesterMax Bruch: Romanze Op. 85 für Viola und StreichorchesterFranz Waxman: Carmen Fantasy für Violine und StreichorchesterAlfred Schnittke: Suite im alten Stil op. 80. arr. für StreichorchesterNicolo Paganini: Moses Fantasie für Cello und StreichorchesterGustav Holst: St. Paul’s Suite op. 29 für Streichorchester \n\n\n\nNähere Infos und Tickets: https://www.kammermusik.co.at/konzerte-2024/elite
URL:https://oststeiermark.at/event/steirisches-kammer-musik-festival-2024/
LOCATION:forumKLOSTER\, Rathausplatz 5\, Gleisdorf\, 8200
CATEGORIES:Kunst & Kultur
ATTACH;FMTTYPE=image/jpeg:https://oststeiermark.at/wp-content/uploads/LGT_Young_Soloists_c_Marion_Schonenberger.jpg
END:VEVENT
END:VCALENDAR