BEGIN:VCALENDAR
VERSION:2.0
PRODID:-//Regionalentwicklung Oststeiermark - ECPv6.15.20//NONSGML v1.0//EN
CALSCALE:GREGORIAN
METHOD:PUBLISH
X-WR-CALNAME:Regionalentwicklung Oststeiermark
X-ORIGINAL-URL:https://oststeiermark.at
X-WR-CALDESC:Veranstaltungen für Regionalentwicklung Oststeiermark
REFRESH-INTERVAL;VALUE=DURATION:PT1H
X-Robots-Tag:noindex
X-PUBLISHED-TTL:PT1H
BEGIN:VTIMEZONE
TZID:Europe/Vienna
BEGIN:DAYLIGHT
TZOFFSETFROM:+0100
TZOFFSETTO:+0200
TZNAME:CEST
DTSTART:20230326T010000
END:DAYLIGHT
BEGIN:STANDARD
TZOFFSETFROM:+0200
TZOFFSETTO:+0100
TZNAME:CET
DTSTART:20231029T010000
END:STANDARD
BEGIN:DAYLIGHT
TZOFFSETFROM:+0100
TZOFFSETTO:+0200
TZNAME:CEST
DTSTART:20240331T010000
END:DAYLIGHT
BEGIN:STANDARD
TZOFFSETFROM:+0200
TZOFFSETTO:+0100
TZNAME:CET
DTSTART:20241027T010000
END:STANDARD
BEGIN:DAYLIGHT
TZOFFSETFROM:+0100
TZOFFSETTO:+0200
TZNAME:CEST
DTSTART:20250330T010000
END:DAYLIGHT
BEGIN:STANDARD
TZOFFSETFROM:+0200
TZOFFSETTO:+0100
TZNAME:CET
DTSTART:20251026T010000
END:STANDARD
END:VTIMEZONE
BEGIN:VEVENT
DTSTART;TZID=Europe/Vienna:20240810T210000
DTEND;TZID=Europe/Vienna:20240810T233000
DTSTAMP:20260420T042708
CREATED:20240731T110446Z
LAST-MODIFIED:20250704T064019Z
UID:10000083-1723323600-1723332600@oststeiermark.at
SUMMARY:Milkshake X Excalibur Hartberg
DESCRIPTION:Wir begeben uns auf eine musikalische Reise mit Tracks von Travis Scott\, Tion Wayne\, Central Cee\, Pop Smoke\, Aitch\, A$AP Rocky\, Skepta\, XXXTENTACION\, Lil Wayne\, Jay Z und Beyonce. Den neuesten Club Bangern von Tyga\, Drake\, Chris Brown\, Rihanna\, Migos\, Future und vielen weiteren. \n\n\n\nNatürlich dürfen auch Songs von: NSG\, Burna Boy\, Fireboy DML\, Wizkid\, CKay\, Mr. Eazy\, Koffee und Davido nicht fehlen. \n\n\n\nUnsere Deutschrap-Fans werden ebenfalls mit Tracks von Luciano\, Apache207\, Nina Chuba\, Nimo\, Jamule\, Pakel\, Capital Bra\, ART\, Civo\, Makko\, Faroon\, Yung Hurn\, RAF Camora\, Rin\, Summer Cem\, Ufo361\, Bausa uvm. versorgt.
URL:https://oststeiermark.at/event/milkshake-x-excalibur-hartberg/
LOCATION:Diskothek Excalibur Hartberg\, Gewerbepark Greinbach 242\, Greinbach\, 8230
CATEGORIES:Kunst & Kultur
ATTACH;FMTTYPE=image/jpeg:https://oststeiermark.at/wp-content/uploads/Milkshake_Hartberg.jpg
END:VEVENT
END:VCALENDAR