BEGIN:VCALENDAR
VERSION:2.0
PRODID:-//Regionalentwicklung Oststeiermark - ECPv6.15.20//NONSGML v1.0//EN
CALSCALE:GREGORIAN
METHOD:PUBLISH
X-WR-CALNAME:Regionalentwicklung Oststeiermark
X-ORIGINAL-URL:https://oststeiermark.at
X-WR-CALDESC:Veranstaltungen für Regionalentwicklung Oststeiermark
REFRESH-INTERVAL;VALUE=DURATION:PT1H
X-Robots-Tag:noindex
X-PUBLISHED-TTL:PT1H
BEGIN:VTIMEZONE
TZID:Europe/Vienna
BEGIN:DAYLIGHT
TZOFFSETFROM:+0100
TZOFFSETTO:+0200
TZNAME:CEST
DTSTART:20240331T010000
END:DAYLIGHT
BEGIN:STANDARD
TZOFFSETFROM:+0200
TZOFFSETTO:+0100
TZNAME:CET
DTSTART:20241027T010000
END:STANDARD
BEGIN:DAYLIGHT
TZOFFSETFROM:+0100
TZOFFSETTO:+0200
TZNAME:CEST
DTSTART:20250330T010000
END:DAYLIGHT
BEGIN:STANDARD
TZOFFSETFROM:+0200
TZOFFSETTO:+0100
TZNAME:CET
DTSTART:20251026T010000
END:STANDARD
BEGIN:DAYLIGHT
TZOFFSETFROM:+0100
TZOFFSETTO:+0200
TZNAME:CEST
DTSTART:20260329T010000
END:DAYLIGHT
BEGIN:STANDARD
TZOFFSETFROM:+0200
TZOFFSETTO:+0100
TZNAME:CET
DTSTART:20261025T010000
END:STANDARD
END:VTIMEZONE
BEGIN:VEVENT
DTSTART;TZID=Europe/Vienna:20250921T180000
DTEND;TZID=Europe/Vienna:20250921T200000
DTSTAMP:20260419T171326
CREATED:20250714T135012Z
LAST-MODIFIED:20250714T135148Z
UID:10000135-1758477600-1758484800@oststeiermark.at
SUMMARY:Hormone Singers
DESCRIPTION:Die Rabtaldirndln und Monika Klengel widmen sich dem großen kontroversen Thema Ehe. Sie nutzen ihre Stimmen\, ihre Musikalität und die Tradition der Hochzeitssängerinnen um als Hochzeitsband Klartext zu reden. Und dabei trällern sie keine romantischen Liebesschnulzen zur Huldigung der monogamen\, ewig währenden Partnerschaft\, sondern dekonstruieren mit ihren spitzen Zungen das hehre Dogma der Ehe.Die Hormone Singers singen bis die Gedanken frei sind\, bis düstere Wahrheiten leichter verdaulich sind. Selbst heilende Wirkung wurde ihren Gesängen schon nachgesagt. Wer das performative Konzert der Hormone Singers besucht und dieses übersteht\, soll gerne heiraten und ist gut gerüstet für die Zukunft unter der Haube. Sei es mit einem Menschen\, mit sich selber oder mit einer Birke.  Eine Performance mit viel Musik.  Viel Ehrlichkeit.  Und viel Liebe. Von und mit: Die Rabtaldirndln und Monika KlengelAusstattung: Helene ThümmelMusikalisches Arrangement/Chorleitung: Felix KlengelDank an: Barbara Scherer (Frauenservice Graz)\, Familie Schwinger-Loidl\, Erika Thümmel\, Volkskundemuseum Graz Fotocredit: Nikola MilatovicGrafik: Helene Thümmel
URL:https://oststeiermark.at/event/hormone-singers-3/2025-09-21/
LOCATION:Hoftheater Hainersdorf\, Hainersdorf 39\, Hainersdorf\, 8264
CATEGORIES:Kunst & Kultur
ATTACH;FMTTYPE=image/jpeg:https://oststeiermark.at/wp-content/uploads/MG_0387_AdobeRGB_Druck-scaled-1.jpg
END:VEVENT
BEGIN:VEVENT
DTSTART;TZID=Europe/Vienna:20250920T180000
DTEND;TZID=Europe/Vienna:20250920T200000
DTSTAMP:20260419T171326
CREATED:20250714T135012Z
LAST-MODIFIED:20250714T135148Z
UID:10000134-1758391200-1758398400@oststeiermark.at
SUMMARY:Hormone Singers
DESCRIPTION:Die Rabtaldirndln und Monika Klengel widmen sich dem großen kontroversen Thema Ehe. Sie nutzen ihre Stimmen\, ihre Musikalität und die Tradition der Hochzeitssängerinnen um als Hochzeitsband Klartext zu reden. Und dabei trällern sie keine romantischen Liebesschnulzen zur Huldigung der monogamen\, ewig währenden Partnerschaft\, sondern dekonstruieren mit ihren spitzen Zungen das hehre Dogma der Ehe.Die Hormone Singers singen bis die Gedanken frei sind\, bis düstere Wahrheiten leichter verdaulich sind. Selbst heilende Wirkung wurde ihren Gesängen schon nachgesagt. Wer das performative Konzert der Hormone Singers besucht und dieses übersteht\, soll gerne heiraten und ist gut gerüstet für die Zukunft unter der Haube. Sei es mit einem Menschen\, mit sich selber oder mit einer Birke.  Eine Performance mit viel Musik.  Viel Ehrlichkeit.  Und viel Liebe. Von und mit: Die Rabtaldirndln und Monika KlengelAusstattung: Helene ThümmelMusikalisches Arrangement/Chorleitung: Felix KlengelDank an: Barbara Scherer (Frauenservice Graz)\, Familie Schwinger-Loidl\, Erika Thümmel\, Volkskundemuseum Graz Fotocredit: Nikola MilatovicGrafik: Helene Thümmel
URL:https://oststeiermark.at/event/hormone-singers-3/2025-09-20/
LOCATION:Hoftheater Hainersdorf\, Hainersdorf 39\, Hainersdorf\, 8264
CATEGORIES:Kunst & Kultur
ATTACH;FMTTYPE=image/jpeg:https://oststeiermark.at/wp-content/uploads/MG_0387_AdobeRGB_Druck-scaled-1.jpg
END:VEVENT
BEGIN:VEVENT
DTSTART;TZID=Europe/Vienna:20250919T180000
DTEND;TZID=Europe/Vienna:20250919T200000
DTSTAMP:20260419T171326
CREATED:20250714T135012Z
LAST-MODIFIED:20250714T135148Z
UID:10000133-1758304800-1758312000@oststeiermark.at
SUMMARY:Hormone Singers
DESCRIPTION:Die Rabtaldirndln und Monika Klengel widmen sich dem großen kontroversen Thema Ehe. Sie nutzen ihre Stimmen\, ihre Musikalität und die Tradition der Hochzeitssängerinnen um als Hochzeitsband Klartext zu reden. Und dabei trällern sie keine romantischen Liebesschnulzen zur Huldigung der monogamen\, ewig währenden Partnerschaft\, sondern dekonstruieren mit ihren spitzen Zungen das hehre Dogma der Ehe.Die Hormone Singers singen bis die Gedanken frei sind\, bis düstere Wahrheiten leichter verdaulich sind. Selbst heilende Wirkung wurde ihren Gesängen schon nachgesagt. Wer das performative Konzert der Hormone Singers besucht und dieses übersteht\, soll gerne heiraten und ist gut gerüstet für die Zukunft unter der Haube. Sei es mit einem Menschen\, mit sich selber oder mit einer Birke.  Eine Performance mit viel Musik.  Viel Ehrlichkeit.  Und viel Liebe. Von und mit: Die Rabtaldirndln und Monika KlengelAusstattung: Helene ThümmelMusikalisches Arrangement/Chorleitung: Felix KlengelDank an: Barbara Scherer (Frauenservice Graz)\, Familie Schwinger-Loidl\, Erika Thümmel\, Volkskundemuseum Graz Fotocredit: Nikola MilatovicGrafik: Helene Thümmel
URL:https://oststeiermark.at/event/hormone-singers-3/2025-09-19/
LOCATION:Hoftheater Hainersdorf\, Hainersdorf 39\, Hainersdorf\, 8264
CATEGORIES:Kunst & Kultur
ATTACH;FMTTYPE=image/jpeg:https://oststeiermark.at/wp-content/uploads/MG_0387_AdobeRGB_Druck-scaled-1.jpg
END:VEVENT
BEGIN:VEVENT
DTSTART;TZID=Europe/Vienna:20250918T180000
DTEND;TZID=Europe/Vienna:20250918T200000
DTSTAMP:20260419T171326
CREATED:20250714T135012Z
LAST-MODIFIED:20250714T135148Z
UID:10000132-1758218400-1758225600@oststeiermark.at
SUMMARY:Hormone Singers
DESCRIPTION:Die Rabtaldirndln und Monika Klengel widmen sich dem großen kontroversen Thema Ehe. Sie nutzen ihre Stimmen\, ihre Musikalität und die Tradition der Hochzeitssängerinnen um als Hochzeitsband Klartext zu reden. Und dabei trällern sie keine romantischen Liebesschnulzen zur Huldigung der monogamen\, ewig währenden Partnerschaft\, sondern dekonstruieren mit ihren spitzen Zungen das hehre Dogma der Ehe.Die Hormone Singers singen bis die Gedanken frei sind\, bis düstere Wahrheiten leichter verdaulich sind. Selbst heilende Wirkung wurde ihren Gesängen schon nachgesagt. Wer das performative Konzert der Hormone Singers besucht und dieses übersteht\, soll gerne heiraten und ist gut gerüstet für die Zukunft unter der Haube. Sei es mit einem Menschen\, mit sich selber oder mit einer Birke.  Eine Performance mit viel Musik.  Viel Ehrlichkeit.  Und viel Liebe. Von und mit: Die Rabtaldirndln und Monika KlengelAusstattung: Helene ThümmelMusikalisches Arrangement/Chorleitung: Felix KlengelDank an: Barbara Scherer (Frauenservice Graz)\, Familie Schwinger-Loidl\, Erika Thümmel\, Volkskundemuseum Graz Fotocredit: Nikola MilatovicGrafik: Helene Thümmel
URL:https://oststeiermark.at/event/hormone-singers-3/2025-09-18/
LOCATION:Hoftheater Hainersdorf\, Hainersdorf 39\, Hainersdorf\, 8264
CATEGORIES:Kunst & Kultur
ATTACH;FMTTYPE=image/jpeg:https://oststeiermark.at/wp-content/uploads/MG_0387_AdobeRGB_Druck-scaled-1.jpg
END:VEVENT
END:VCALENDAR