BEGIN:VCALENDAR
VERSION:2.0
PRODID:-//Regionalentwicklung Oststeiermark - ECPv6.15.20//NONSGML v1.0//EN
CALSCALE:GREGORIAN
METHOD:PUBLISH
X-WR-CALNAME:Regionalentwicklung Oststeiermark
X-ORIGINAL-URL:https://oststeiermark.at
X-WR-CALDESC:Veranstaltungen für Regionalentwicklung Oststeiermark
REFRESH-INTERVAL;VALUE=DURATION:PT1H
X-Robots-Tag:noindex
X-PUBLISHED-TTL:PT1H
BEGIN:VTIMEZONE
TZID:Europe/Vienna
BEGIN:DAYLIGHT
TZOFFSETFROM:+0100
TZOFFSETTO:+0200
TZNAME:CEST
DTSTART:20240331T010000
END:DAYLIGHT
BEGIN:STANDARD
TZOFFSETFROM:+0200
TZOFFSETTO:+0100
TZNAME:CET
DTSTART:20241027T010000
END:STANDARD
BEGIN:DAYLIGHT
TZOFFSETFROM:+0100
TZOFFSETTO:+0200
TZNAME:CEST
DTSTART:20250330T010000
END:DAYLIGHT
BEGIN:STANDARD
TZOFFSETFROM:+0200
TZOFFSETTO:+0100
TZNAME:CET
DTSTART:20251026T010000
END:STANDARD
BEGIN:DAYLIGHT
TZOFFSETFROM:+0100
TZOFFSETTO:+0200
TZNAME:CEST
DTSTART:20260329T010000
END:DAYLIGHT
BEGIN:STANDARD
TZOFFSETFROM:+0200
TZOFFSETTO:+0100
TZNAME:CET
DTSTART:20261025T010000
END:STANDARD
END:VTIMEZONE
BEGIN:VEVENT
DTSTART;TZID=Europe/Vienna:20250612T180000
DTEND;TZID=Europe/Vienna:20250612T200000
DTSTAMP:20260419T224251
CREATED:20250524T110235Z
LAST-MODIFIED:20250630T153605Z
UID:10000019-1749751200-1749758400@oststeiermark.at
SUMMARY:Lindenblätter
DESCRIPTION:Am Platz an der Linde\, dem bisherigen Standort der Angerer Wandzeitung „Der Aufguss“\, erscheint ab Juni die neue Wandzeitung der „ausreißer“ und bietet Journalismus\, Kunst und Literatur\, frei zugänglich. Mitten im Angerer Zentrum. Gegründet vor über 20 Jahren wird der „ausreißer“ als großformatige Wandzeitung an rund 15 Standorten werbefrei im öffentlichen Raum in Graz und der Steiermark publiziert\, parallel dazu als Faltausgabe zum Mitnehmen sowie online\, alle acht Wochen neu. Austausch und Kooperation werden großgeschrieben\, denn der „ausreißer“ versteht sich als offene\, partizipative Plattform und lädt zum Mitschreiben\, -denken und -diskutieren ein. \n\n\n\nProgrammablauf ab 18.00: \n\n\n\nBegrüßung: Bürgermeister Hannes Grabner \n\n\n\nPräsentation der „ausreißer“ \n\n\n\nvon Evelyn Schalk\, Mitgründerin und Chefredakteurin \n\n\n\nLesungenvon Eva Ursprung (Künstlerin\, Musikerin\, Autorin) und Joachim Hainzl (Sozialhistoriker\, Sammler\, Autor) aus ihrer langjährigen ausreißer-Kolumne „wortmülldeponie“. \n\n\n\nMusikalischer Abschluß: \n\n\n\nEin leidenschaftlich famoses Bläserquintett aus Anger \n\n\n\nSans Moustache\, die phantastische Gypsy Swing –Band aus Graz
URL:https://oststeiermark.at/event/lindenblaetter/
LOCATION:Platz an der Linde\, Anger\, Styria\, 8184\, Austria
CATEGORIES:Kunst & Kultur
ATTACH;FMTTYPE=image/jpeg:https://oststeiermark.at/wp-content/uploads/0d430b49-8b76-400d-8edd-9393a189ac24.jpg
END:VEVENT
END:VCALENDAR